Workbook

Sheet 願書（様式1）
Z1: (様式1)
A2: 令和5年（2023年）度 JEES日本語教育普及奨学金 願書
S3: 令和 | U3: 5 | V3: 年 | X3: 月 | Z3: 日
A4: 公益財団法人 日本国際教育支援協会 理事長 殿
A6: 私は、本奨学金の募集・推薦要項の全記載内容に同意・了承の上、令和5年（2023年）度JEES日本語教育普及奨学金の奨学生として採用願いたく、願書の記載事項に相違ありませんので、ここに申請いたします。また、募集・推薦要項14(2)①から⑤の目的で、貴協会が願書の記載事項を利用することに同意いたします。なお、奨学生として採用された場合は、他の奨学金を受給することを目的として、本奨学金を辞退することはいたしません。
A7: 記
A9: 氏名 | D9: カナ | W9: 写真 データを貼り付けること ( 50KB以内）
D10: 英語ｱﾙﾌｧﾍﾞｯﾄ（半角・大文字）
D11: 漢字 （ある場合）
A12: 生年月日 | G12: 年 | J12: 月 | M12: 日 | P12: （令和5年10月1日時点で | V12: =リスト!B18 -> #VALUE! | X12: 歳）
A13: 性別 | D13: ▼ここをクリック ▼ ▽を押して選択してください | M13: 国籍・地域
A14: 学籍状況 （令和5年 10月1日時点） | D14: 学校名 | K14: 学部・研究科 | S14: 学科・専攻
D16: 在籍課程 | K16: 学年 | O16: 入学年月 | U16: 卒業・修了予定年月
D17: ▼ここをクリック▼ | M17: 年次 | O17: ▼ここをクリック▼ | R17: 年 | T17: 月 | U17: ▼ここをクリック▼ | X17: 年 | Z17: 月
A18: 日本語教員養成課程履修の有無 | K18: ▼ここをクリック▼ | U18: 事務担当者使用欄 | Z18: =リスト!H18 -> ★
A20: ●応募者の経済状況（令和5年度見込み）
A21: 収入内訳（全て平均月額を記入すること） ※留学生の場合、本国の家庭の収入、日本国外にいる配偶者の収入等、生計を一にする別居者の収入は含まない | N21: 支出内訳（全て平均月額を記入すること）
A22: ①仕送り、生計を一にする 同居者の収入等 | M22: 円 | N22: ⑧学費 | Z22: 円
A23: ②アルバイト収入、 RA・TAの給与等 | M23: 円 | N23: ⑨（⑧のうち）学費免除額 | Z23: 円
A24: ③特別研究員 研究奨励金 | M24: 円 | N24: ⑩教材費 | Z24: 円
A25: ④高等教育の修学支援新制度 | M25: 円 | N25: ⑪食費 | Z25: 円
A26: ⑤併給奨学金（給付型のみ） | M26: 円 | N26: ⑫住居費 | Z26: 円
A27: ⑥貯金の取り崩し | M27: 円 | N27: ⑬その他 （光熱費・通信費・交通費等） | Z27: 円
A28: ⑦その他 （借金等、貸与型奨学金含む） | M28: 円
A29: 収入合計 | H29: =SUM(H22:L28) -> 0 | M29: 円 | N29: 支出合計 | U29: =(U22+U24+U25+U26+U27)-U23 -> 0 | Z29: 円
A30: 収入―支出 | H30: =H29-U29 -> 0 | Z30: 円 | AA30: =IF(H30<0,"★支出が収入を上回らないように修正してください。収入を上回る支出を貯金の取り崩しや借金で賄う場合は⑤または⑥に計上してください。","")
A32: ●他の奨学金（一時金を含む）受給・申請状況 ※令和5年4月～令和6年3月までに受給する（予定を含む）奨学金のみ記入すること。
A33: 貸与型 給付型 | C33: 奨学金名 | I33: 支給団体名 | N33: 月額（一時金の場合は支給額の1/12の金額） | R33: 受給期間 | X33: 状況
A34: ここをクリック▼ | Q34: 円 | T34: 年 | V34: 月 | W34: から | X34: ここをクリック▼
T35: 年 | V35: 月 | W35: まで
Q36: 円 | T36: 年 | V36: 月 | W36: から
T37: 年 | V37: 月 | W37: まで
Q38: 円 | T38: 年 | V38: 月 | W38: から
T39: 年 | V39: 月 | W39: まで
Q40: 円 | T40: 年 | V40: 月 | W40: から
T41: 年 | V41: 月 | W41: まで
A43: ●学歴・職歴（高等学校以降） ※記入欄が足りない場合は高等学校以降の直近4件を記入すること。
A44: 学歴 職歴 | C44: 学校名又は勤務先 （所在地） | L44: 専攻分野・職務内容・地位 | U44: 在学・勤務期間
A45: ここをクリック▼ | W45: 年 | Y45: 月 | Z45: から
W46: 年 | Y46: 月 | Z46: まで
...

Sheet 記入例
Z1: (様式1)
A2: 令和5年（2023年）度 JEES日本語教育普及奨学金 願書
S3: 令和 | U3: 5 | V3: 年 | W3: 4 | X3: 月 | Y3: 1 | Z3: 日
A4: 公益財団法人 日本国際教育支援協会 理事長 殿
A6: 私は、本奨学金の募集・推薦要項の全記載内容に同意・了承の上、令和5年（2023年）度JEES日本語教育普及奨学金の奨学生として採用願いたく、願書の記載事項に相違ありませんので、ここに申請いたします。また、募集・推薦要項14(2)①から⑤の目的で、貴協会が願書の記載事項を利用することに同意いたします。なお、奨学生として採用された場合は、他の奨学金を受給することを目的として、本奨学金を辞退することはいたしません。
A7: 記
A9: 氏名 | D9: カナ | G9: ｷｮｳｶｲ ﾊﾅｺ | W9: 写真 データを貼り付けること ( 50KB以内）
D10: 英語ｱﾙﾌｧﾍﾞｯﾄ（半角・大文字） | G10: KYOKAI HANAKO
D11: 漢字 （ある場合） | G11: 協会 花子
A12: 生年月日 | D12: 1990 | G12: 年 | H12: 1 | J12: 月 | K12: 1 | M12: 日 | P12: （令和5年10月1日時点で | V12: 33 | X12: 歳）
A13: 性別 | D13: 女 | M13: 国籍・地域 | Q13: 日本
A14: 学籍状況 （令和5年 10月1日時点） | D14: 学校名 | K14: 学部・研究科 | S14: 学科・専攻
D15: ジーズ大学 | K15: 文学研究科 | S15: 日本語学専攻
D16: 在籍課程 | K16: 学年 | O16: 入学年月 | U16: 卒業・修了予定年月
D17: 修士（博士前期）課程 | K17: 1 | M17: 年次 | O17: 2023 | R17: 年 | S17: 4 | T17: 月 | U17: 2025 | X17: 年 | Y17: 3 | Z17: 月
A18: 日本語教員養成課程履修の有無 | K18: 有り（主専攻） | U18: 事務担当者使用欄
A20: ●応募者の経済状況（令和5年度見込み）
A21: 収入内訳（全て平均月額を記入すること） ※留学生の場合、本国の家庭の収入、日本国外にいる配偶者の収入等、生計を一にする別居者の収入は含まない | N21: 支出内訳（全て平均月額を記入すること）
A22: ①仕送り、生計を一にする 同居者の収入等 | H22: 50000 | M22: 円 | N22: ⑧学費 | U22: 80000 | Z22: 円
A23: ②アルバイト収入、 RA・TAの給与等 | H23: 100000 | M23: 円 | N23: ⑨（⑧のうち）学費免除額 | U23: 0 | Z23: 円
A24: ③特別研究員 研究奨励金 | H24: 0 | M24: 円 | N24: ⑩教材費 | U24: 10000 | Z24: 円
A25: ④高等教育の修学支援新制度 | H25: 0 | M25: 円 | N25: ⑪食費 | U25: 25000 | Z25: 円
A26: ⑤併給奨学金（給付型のみ） | H26: 0 | M26: 円 | N26: ⑫住居費 | U26: 75000 | Z26: 円
A27: ⑥貯金の取り崩し | H27: 20000 | M27: 円 | N27: ⑬その他 （光熱費・通信費・交通費等） | U27: 10000 | Z27: 円
A28: ⑦その他 （借金等、貸与型奨学金含む） | H28: 30000 | M28: 円
A29: 収入合計 | H29: =SUM(H22:L28) -> 200000 | M29: 円 | N29: 支出合計 | U29: =(U22+U24+U25+U26+U27)-U23 -> 200000 | Z29: 円
A30: 収入―支出 | H30: =H29-U29 -> 0 | Z30: 円 | AA30: =IF(H30<0,"★支出が収入を上回らないように修正してください。収入を上回る支出を貯金の取り崩しや借金で賄う場合は⑤または⑥に計上してください。","")
A32: ●他の奨学金（一時金を含む）受給・申請状況 ※令和5年4月～令和6年3月までに受給する（予定を含む）奨学金のみ記入すること。
A33: 貸与型 給付型 | C33: 奨学金名 | I33: 支給団体名 | N33: 月額（一時金の場合は支給額の1/12の金額） | R33: 受給期間 | X33: 状況
A34: 貸与型 | C34: ××奨励金 | I34: J機構 | N34: 30000 | Q34: 円 | R34: 2023 | T34: 年 | U34: 4 | V34: 月 | W34: から | X34: 受給中
R35: 2024 | T35: 年 | U35: 3 | V35: 月 | W35: まで
Q36: 円 | T36: 年 | V36: 月 | W36: から
T37: 年 | V37: 月 | W37: まで
Q38: 円 | T38: 年 | V38: 月 | W38: から
T39: 年 | V39: 月 | W39: まで
Q40: 円 | T40: 年 | V40: 月 | W40: から
T41: 年 | V41: 月 | W41: まで
A43: ●学歴・職歴（高等学校以降） ※記入欄が足りない場合は高等学校以降の直近4件を記入すること。
A44: 学歴 職歴 | C44: 学校名又は勤務先 （所在地） | L44: 専攻分野・職務内容・地位 | U44: 在学・勤務期間
A45: 学歴 | C45: ○○高等学校（東京都） | L45: 普通科 | U45: 2007 | W45: 年 | X45: 4 | Y45: 月 | Z45: から
...

Sheet リスト
A1: 在籍課程 | B1: 在籍月数 | D1: 渡日状況 | G1: 奨学金支給状況 | J1: 学歴・職歴 | M1: 推薦順位 | O1: 性別 | Q1: 貸与・給付 | S1: 日本語教員養成課程 | U1: 入学年 | W1: 卒業年
A2: ▼ここをクリック▼ | B2: error | D2: ▼ここをクリック ▼ ▽を押して渡日状況を選択してください | G2: ▼ここをクリック▼ | J2: ▼ここをクリック▼ | M2: ★順位を選択してください | O2: ▼ここをクリック ▼ ▽を押して選択してください | Q2: ▼ここをクリック▼ | S2: ▼ここをクリック▼ | U2: ▼ここをクリック▼ | W2: ▼ここをクリック▼
A3: 学士課程【4年制】 | B3: 48 | D3: 渡日済み | G3: 受給中 | J3: 学歴 | M3: 1 | O3: 男 | Q3: 貸与型 | S3: 有り（主専攻） | U3: 2023 | W3: 2024
A4: 学士課程【6年制】 | B4: 72 | D4: 渡日前（再入国） | G4: 受給決定済 | J4: 職歴 | M4: 2 | O4: 女 | Q4: 給付型 | S4: 有り（副専攻） | U4: =U3-1 -> 2022 | W4: 2025
A5: 修士（博士前期）課程 | B5: 24 | D5: 渡日前（新規入国） | G5: 申請中 | M5: 3 | O5: 回答しない | S5: 無し | U5: =U4-1 -> 2021 | W5: 2026
A6: 博士（博士後期）課程【3年制】 | B6: 36 | U6: =U5-1 -> 2020 | W6: 2027
A7: 博士（博士後期）課程【4年制】 | B7: 48 | U7: =U6-1 -> 2019 | W7: 2028
A8: 一貫制博士課程 | B8: 60 | U8: =U7-1 -> 2018 | W8: 2029
A9: 専門職学位課程（学士課程相当） | B9: 48 | U9: =U8-1 -> 2017 | W9: 2030
A10: 専門職学位課程（修士課程相当） | B10: 24 | U10: =U9-1 -> 2016 | W10: 2031
A11: 専門職学位課程（博士課程相当） | B11: 36 | U11: =U10-1 -> 2015 | W11: 2032
A12: 学科生（短期大学）【2年制】 | B12: 24 | U12: =U11-1 -> 2014 | W12: 2033
A13: 学科生（短期大学）【3年制】 | B13: 36
A15: 年齢計算 | D15: 在籍月数計算 | G15: 在籍月数チェック | J15: 所属課程
A16: 取得した生年月日 | B16: ='願書（様式1）'!D12&"/"&'願書（様式1）'!H12&"/"&'願書（様式1）'!K12 -> // | D16: 入学年月 | E16: ='願書（様式1）'!O17&"/"&'願書（様式1）'!S17 -> ▼ここをクリック▼/ | G16: 在籍月数（規定） | H16: =VLOOKUP('願書（様式1）'!D17,テーブル13[],2,FALSE) -> error | J16: ='願書（様式1）'!D17&'願書（様式1）'!K17&"年" -> ▼ここをクリック▼年
A17: 起算年月 | B17: 45200 | D17: 卒業年月 | E17: ='願書（様式1）'!U17&"/"&'願書（様式1）'!Y17 -> ▼ここをクリック▼/ | G17: 在籍月数（申請） | H17: =IFERROR(E18,0) -> 0
A18: 年齢 | B18: =DATEDIF(B16,B17,"Y") -> #VALUE! | D18: 在籍月数 | E18: =DATEDIF(E16,E17,"m")+1 -> #VALUE! | G18: 結果 | H18: =IF(H16=H17,"","★") -> ★
A21: 奨学金受給期間
A22: 奨学金① | B22: ='願書（様式1）'!R34&"."&'願書（様式1）'!U34&"-"&'願書（様式1）'!R35&"."&'願書（様式1）'!U35 -> .-.
A23: 奨学金② | B23: ='願書（様式1）'!R36&"."&'願書（様式1）'!U36&"-"&'願書（様式1）'!R37&"."&'願書（様式1）'!U37 -> .-.
A24: 奨学金③ | B24: ='願書（様式1）'!R38&"."&'願書（様式1）'!U38&"-"&'願書（様式1）'!R39&"."&'願書（様式1）'!U39 -> .-.
A25: 奨学金④ | B25: ='願書（様式1）'!R40&"."&'願書（様式1）'!U40&"-"&'願書（様式1）'!R41&"."&'願書（様式1）'!U41 -> .-.

Sheet 一覧（縦）
A1: 氏名（ｶﾅ） | B1: ='願書（様式1）'!#REF! -> #REF!
A2: 氏名（漢字） | B2: ='願書（様式1）'!#REF! -> #REF!
A3: 氏名（ｱﾙﾌｧﾍﾞｯﾄ） | B3: ='願書（様式1）'!#REF! -> #REF!
A4: 学校名 | B4: ='願書（様式1）'!#REF! -> #REF!
A5: 学部・研究科 | B5: ='願書（様式1）'!#REF! -> #REF!
A6: 専攻 | B6: ='願書（様式1）'!#REF! -> #REF!
A7: 在籍課程 | B7: ='願書（様式1）'!#REF! -> #REF!
A8: 学年 | B8: ='願書（様式1）'!#REF! -> #REF!
A9: 入学年月 | B9: ='願書（様式1）'!#REF!&"/"&'願書（様式1）'!#REF! -> #REF!
A10: 卒業年月 | B10: ='願書（様式1）'!#REF!&"/"&'願書（様式1）'!#REF! -> #REF!
A11: 生年月日 | B11: ='願書（様式1）'!#REF!&"/"&'願書（様式1）'!#REF!&"/"&'願書（様式1）'!#REF! -> #REF!
A12: 年齢 | B12: =DATEDIF(B11,C12,"Y") -> #REF! | C12: 45200
A13: 性別 | B13: ='願書（様式1）'!#REF! -> #REF!
A14: ①仕送り、生計を一にする同居者の収入等 | B14: ='願書（様式1）'!H22 -> 0
A15: ②アルバイト収入、RA・TAの給与等 | B15: ='願書（様式1）'!H23 -> 0
A16: ③特別研究員 研究奨励金 | B16: ='願書（様式1）'!H24 -> 0
A17: ④高等教育の修学支援新制度給付型奨学金 | B17: ='願書（様式1）'!H25 -> 0
A18: ⑤併給奨学金（給付型のみ） | B18: ='願書（様式1）'!H26 -> 0
A19: ⑥貯金の取り崩し | B19: ='願書（様式1）'!H27 -> 0
A20: ⑦その他（借金等、貸与型奨学金含む） | B20: ='願書（様式1）'!H28 -> 0
A21: 収入合計 | B21: ='願書（様式1）'!H29 -> 0
A22: ⑧学費 | B22: ='願書（様式1）'!U22 -> 0
A23: ⑨（⑦のうち）学費免除額 | B23: ='願書（様式1）'!U23 -> 0
A24: ⑩教材費 | B24: ='願書（様式1）'!U24 -> 0
A25: ⑪食費 | B25: ='願書（様式1）'!U25 -> 0
A26: ⑫住居費 | B26: ='願書（様式1）'!U26 -> 0
A27: ⑬その他（光熱費・通信費・交通費等） | B27: ='願書（様式1）'!U27 -> 0
A28: 支出合計 | B28: ='願書（様式1）'!U29 -> 0
A29: 収入―支出 | B29: ='願書（様式1）'!H30 -> 0
A30: 併給奨学金①（貸与・給付型） | B30: ='願書（様式1）'!A34 -> ここをクリック▼
A31: 併給奨学金①（名称） | B31: ='願書（様式1）'!C34 -> 0
A32: 併給奨学金①（支給団体） | B32: ='願書（様式1）'!I34 -> 0
A33: 併給奨学金①（月額） | B33: ='願書（様式1）'!N34 -> 0
A34: 併給奨学金①（受給開始年月） | B34: ='願書（様式1）'!R34&"/"&'願書（様式1）'!U34 -> /
A35: 併給奨学金①（受給終了年月） | B35: ='願書（様式1）'!R35&"/"&'願書（様式1）'!U35 -> /
A36: 併給奨学金①（状況） | B36: ='願書（様式1）'!X34 -> ここをクリック▼
A37: 併給奨学金②（貸与・給付型） | B37: ='願書（様式1）'!A36 -> 0
A38: 併給奨学金②（名称） | B38: ='願書（様式1）'!C36 -> 0
A39: 併給奨学金②（支給団体） | B39: ='願書（様式1）'!I36 -> 0
A40: 併給奨学金②（月額） | B40: ='願書（様式1）'!N36 -> 0
...
