Workbook

Sheet 願書（様式1）
Z1: (様式1)
A2: 令和5年度JEES・ドコモ留学生奨学金 願書
S3: 令和 | U3: 5 | V3: 年 | X3: 月 | Z3: 日
A4: 公益財団法人 日本国際教育支援協会 理事長 殿
A6: 私は、本奨学金の募集・推薦要項の全記載内容に同意・了承の上、令和5年度JEES・ドコモ留学生奨学金の奨学生として採用願いたく、願書の記載事項に相違ありませんので、ここに申請いたします。また、募集・推薦要項15(2)①から⑤の目的で、願書の記載事項を寄付者に開示・提供することに同意いたします。なお、奨学生として採用された場合は、他の奨学金を受給することを目的として、本奨学金を辞退することはいたしません。
A7: 記
A9: 氏 名 | V9: 写真 データを貼り付けること ( 50KB以内）
A10: カナ
A11: 英語ｱﾙﾌｧﾍﾞｯﾄ （半角・大文字）
A12: 漢字 (ある場合)
A13: 学籍状況（令和5年4月1日時点）
A14: 学校名 | I14: 研究科 | R14: 専攻
A16: 在籍課程 | I16: 学年 | M16: 入学年月 | T16: 修了予定年月
A17: ★★ CLICK HERE ★★ ▽を押して在籍課程を選択してください | K17: 年次 | P17: 年 | S17: 月 | W17: 年 | Z17: 月
A18: 国籍・地域 | I18: 渡日状況 | Q18: 渡日予定時期
I19: ★★ CLICK HERE ★★ ▽を押して渡日状況を選択してください | T19: 年 | W19: 月 | Z19: 日
A20: 生年月日 | Q20: 性別
D21: 年 | F21: 月 | H21: 日 | I21: （令和5年4月1日時点で | N21: ='一覧（縦）'!B15 -> #VALUE! | P21: 歳） | Q21: ★★ CLICK HERE ★★ ▽を押して選択してください
A23: ●応募者の経済状況（令和5年度見込み）
A24: 収入内訳(全て平均月額を記入すること) ※本国の家庭の収入、日本国外にいる配偶者の収入等、 生計を一にする別居者の収入は含まない | N24: 支出内訳(全て平均月額を記入すること)
A25: ①仕送り、生計を一にする 同居者の収入等 | M25: 円 | N25: ⑦学費 | Z25: 円
A26: ②アルバイト収入、 RA・TAの給与等 | M26: 円 | N26: ⑧（⑦のうち）学費免除額 | Z26: 円
A27: ③特別研究員 研究奨励金 | M27: 円 | N27: ⑨教材費 | Z27: 円
A28: ④併給奨学金（給付型のみ） | M28: 円 | N28: ⑩食費 | Z28: 円
A29: ⑤貯金の取り崩し | M29: 円 | N29: ⑪住居費 | Z29: 円
A30: ⑥その他 （借金等、貸与型奨学金含む） | M30: 円 | N30: ⑫その他 （光熱費・通信費・交通費等） | Z30: 円
A31: 収入合計 | H31: =SUM(H25:L30) -> 0 | M31: 円 | N31: 支出合計 | U31: =(U25+U27+U28+U29+U30)-U26 -> 0 | Z31: 円
A32: 収入―支出 | H32: =H31-U31 -> 0 | Z32: 円 | AA32: =IF(H32<0,"★支出が収入を上回らないように修正してください。収入を上回る支出を貯金の取り崩しや借金で賄う場合は⑤または⑥に計上してください。","")
A34: ●他の奨学金（一時金含む）受給・申請状況 ※令和5年4月～令和6年3月までに受給する（予定を含む）奨学金のみ記入すること。
A35: 給付型 貸与型 | C35: 奨学金名 | I35: 支給団体名 | N35: 月額（一時金の場合は支給額の1/12の金額） | R35: 受給期間 | X35: 状況
A36: CLICK HERE▼ | Q36: 円 | T36: 年 | V36: 月 | W36: から | X36: CLICK HERE▼
T37: 年 | V37: 月 | W37: まで
Q38: 円 | T38: 年 | V38: 月 | W38: から
T39: 年 | V39: 月 | W39: まで
Q40: 円 | T40: 年 | V40: 月 | W40: から
T41: 年 | V41: 月 | W41: まで
Q42: 円 | T42: 年 | V42: 月 | W42: から
T43: 年 | V43: 月 | W43: まで
A45: ●学歴・職歴（高等学校以降） ※記入欄が足りない場合は高等学校以降の直近4件を記入すること。
A46: 学歴 職歴 | C46: 学校名又は勤務先 （所在地） | L46: 専攻分野・職務内容・地位 | U46: 在学・勤務期間
A47: CLICK HERE▼ | W47: 年 | Y47: 月 | Z47: から
W48: 年 | Y48: 月 | Z48: まで
W49: 年 | Y49: 月 | Z49: から
W50: 年 | Y50: 月 | Z50: まで
W51: 年 | Y51: 月 | Z51: から
W52: 年 | Y52: 月 | Z52: まで
W53: 年 | Y53: 月 | Z53: から
W54: 年 | Y54: 月 | Z54: まで
A56: ●日本語能力に関する資格の取得状況（ある場合）
A57: 資格名 | L57: レベル | U57: 取得年月
W58: 年 | Z58: 月
W59: 年 | Z59: 月
A61: ●日本で学習・研究する理由
A63: ●大学院在籍中の学習・研究計画
A64: 概要・テーマ
A65: 具体的な内容
A68: ●現在の研究が、将来どのように社会に役立てられると思うか。
A70: ●学業修了後、どのような進路を希望するか。また将来どのような職業・仕事に就きたいか。
A73: ●株式会社NTTドコモの事業・活動について、あなたがどう理解し、どう考えているか。
Y77: 以上
A78: 【記入上の注意】
A79: ・添付する写真は、上半身、脱帽、最近6か月以内に撮影したものとし、50KB以下のものを貼り付けること。 写真の大きさの調整をして枠内に収めること（写真の縦横比は変更しない。枠内に空白ができても可）。 ・応募者本人が入力すること（手書き不可）。 ・各項目ともセル内に収まるよう入力し、行の追加・高さの調整はしないこと。

Sheet リスト
A1: 在籍課程 | D1: 渡日状況 | G1: 奨学金支給状況 | J1: 履歴 | M1: 推薦順位 | O1: 性別 | Q1: 併給奨学金
A2: ★★ CLICK HERE ★★ ▽を押して在籍課程を選択してください | D2: ★★ CLICK HERE ★★ ▽を押して渡日状況を選択してください | G2: CLICK HERE▼ | J2: CLICK HERE▼ | M2: ★順位を選択してください | O2: ★★ CLICK HERE ★★ ▽を押して選択してください | Q2: CLICK HERE▼
A3: 学士課程【4年制】 | D3: 渡日済み | G3: 受給中 | J3: 学歴 | M3: 1 | O3: 男 | Q3: 給付型
A4: 学士課程【6年制】 | D4: 渡日前（再入国） | G4: 申請中 | J4: 職歴 | M4: 2 | O4: 女 | Q4: 貸与型
A5: 修士（博士前期）課程 | D5: 渡日前（新規入国） | G5: 受給決定済 | M5: 3 | O5: 回答しない
A6: 博士（博士後期）課程【3年制】
A7: 博士（博士後期）課程【4年制】
A8: 一貫制博士課程
A9: 専門職学位課程

Sheet 【記入例】願書（様式1）
Z1: (様式1)
A2: 令和5年度JEES・ドコモ留学生奨学金 願書
S3: 令和 | U3: 5 | V3: 年 | W3: 5 | X3: 月 | Y3: 1 | Z3: 日
A4: 公益財団法人 日本国際教育支援協会 理事長 殿
A6: 私は、本奨学金の募集・推薦要項の全記載内容に同意・了承の上、令和5年度JEES・ドコモ留学生奨学金の奨学生として採用願いたく、願書の記載事項に相違ありませんので、ここに申請いたします。また、募集・推薦要項15(2)①から⑤の目的で、願書の記載事項を寄付者に開示・提供することに同意いたします。なお、奨学生として採用された場合は、他の奨学金を受給することを目的として、本奨学金を辞退することはいたしません。
A7: 記
A9: 氏 名 | V9: 写真 データを貼り付けること ( 50KB以内）
A10: カナ | D10: キョウカイ タロウ
A11: 英語ｱﾙﾌｧﾍﾞｯﾄ （半角・大文字） | D11: KYOUKAI TARO
A12: 漢字 (ある場合) | D12: 協会 太郎
A13: 学籍状況（令和5年4月1日時点）
A14: 学校名 | I14: 研究科 | R14: 専攻
A15: JEES大学 | I15: 情報学研究科 | R15: 情報学専攻
A16: 在籍課程 | I16: 学年 | M16: 入学年月 | T16: 修了予定年月
A17: 修士（博士前期）課程 | I17: 1 | K17: 年次 | M17: 2023 | P17: 年 | Q17: 1 | S17: 月 | T17: 2025 | W17: 年 | X17: 3 | Z17: 月
A18: 国籍・地域 | I18: 渡日状況 | Q18: 渡日予定時期
A19: ××国 | I19: 渡日済み | T19: 年 | W19: 月 | Z19: 日
A20: 生年月日 | Q20: 性別
A21: 2000 | D21: 年 | E21: 8 | F21: 月 | G21: 1 | H21: 日 | I21: （令和5年4月1日時点で | N21: 22 | P21: 歳） | Q21: 男
A23: ●応募者の経済状況（令和5年度見込み）
A24: 収入内訳(全て平均月額を記入すること) ※本国の家庭の収入、日本国外にいる配偶者の収入等、 生計を一にする別居者の収入は含まない | N24: 支出内訳(全て平均月額を記入すること)
A25: ①仕送り、生計を一にする 同居者の収入等 | H25: 100000 | M25: 円 | N25: ⑦学費 | U25: 30000 | Z25: 円
A26: ②アルバイト収入、 RA・TAの給与等 | H26: 20000 | M26: 円 | N26: ⑧（⑦のうち）学費免除額 | U26: 30000 | Z26: 円
A27: ③特別研究員 研究奨励金 | H27: 0 | M27: 円 | N27: ⑨教材費 | U27: 30000 | Z27: 円
A28: ④併給奨学金（給付型のみ） | H28: 20000 | M28: 円 | N28: ⑩食費 | U28: 30000 | Z28: 円
A29: ⑤貯金の取り崩し | H29: 0 | M29: 円 | N29: ⑪住居費 | U29: 60000 | Z29: 円
A30: ⑥その他 （借金等、貸与型奨学金含む） | H30: 0 | M30: 円 | N30: ⑫その他 （光熱費・通信費・交通費等） | U30: 20000 | Z30: 円
A31: 収入合計 | H31: =SUM(H25:L30) -> 140000 | M31: 円 | N31: 支出合計 | U31: =(U25+U27+U28+U29+U30)-U26 -> 140000 | Z31: 円
A32: 収入―支出 | H32: =H31-U31 -> 0 | Z32: 円 | AA32: =IF(H32<0,"★支出が収入を上回らないように修正してください。収入を上回る支出を貯金の取り崩しや借金で賄う場合は⑤または⑥に計上してください。","")
A34: ●他の奨学金（一時金含む）受給・申請状況 ※令和5年4月～令和6年3月までに受給する（予定を含む）奨学金のみ記入すること。
A35: 給付型 貸与型 | C35: 奨学金名 | I35: 支給団体名 | N35: 月額（一時金の場合は支給額の1/12の金額） | R35: 受給期間 | X35: 状況
A36: 給付型 | C36: A奨学金 | I36: A財団 | N36: 20000 | Q36: 円 | R36: 2023 | T36: 年 | U36: 4 | V36: 月 | W36: から | X36: 受給中
R37: 2025 | T37: 年 | U37: 3 | V37: 月 | W37: まで
Q38: 円 | T38: 年 | V38: 月 | W38: から
T39: 年 | V39: 月 | W39: まで
Q40: 円 | T40: 年 | V40: 月 | W40: から
T41: 年 | V41: 月 | W41: まで
Q42: 円 | T42: 年 | V42: 月 | W42: から
T43: 年 | V43: 月 | W43: まで
A45: ●学歴・職歴（高等学校以降） ※記入欄が足りない場合は高等学校以降の直近4件を記入すること。
A46: 学歴 職歴 | C46: 学校名又は勤務先 （所在地） | L46: 専攻分野・職務内容・地位 | U46: 在学・勤務期間
A47: 学歴 | C47: K高等学校 （××国） | U47: 2014 | W47: 年 | X47: 9 | Y47: 月 | Z47: から
U48: 2017 | W48: 年 | X48: 9 | Y48: 月 | Z48: まで
A49: 学歴 | C49: M大学 （××国） | L49: 理工学部 | U49: 2017 | W49: 年 | X49: 9 | Y49: 月 | Z49: から
U50: 2021 | W50: 年 | X50: 9 | Y50: 月 | Z50: まで
A51: 職歴 | C51: K株式会社 （××国） | L51: 情報通信部門 | U51: 2021 | W51: 年 | X51: 10 | Y51: 月 | Z51: から
U52: 2022 | W52: 年 | X52: 12 | Y52: 月 | Z52: まで
W53: 年 | Y53: 月 | Z53: から
W54: 年 | Y54: 月 | Z54: まで
A56: ●日本語能力に関する資格の取得状況（ある場合）
A57: 資格名 | L57: レベル | U57: 取得年月
A58: 日本語能力試験 | L58: N1 | U58: 2021 | W58: 年 | X58: 12 | Z58: 月
W59: 年 | Z59: 月
A61: ●日本で学習・研究する理由
A62: 大学時代に国際交流プログラムを通じて日本留学し、日本の〇〇について学ぶうちに××を大変魅力に感じ、ぜひ日本で学習・研究したいと考えるようになりました。さらに・・・・
A63: ●大学院在籍中の学習・研究計画
A64: 概要・テーマ | G64: ××における△△の解析
A65: 具体的な内容
A66: 私は〇〇に興味があり、××における△△の解析を研究しています。・・・・・・・
A68: ●現在の研究が、将来どのように社会に役立てられると思うか。
A69: 日本において○○研究の関心は高く、・・・・・・・の向上に役立つと考えます。・・・・・・・
A70: ●学業修了後、どのような進路を希望するか。また将来どのような職業・仕事に就きたいか。
A71: 在学中に学んだ××を生かして、卒業後は〇〇になりたいと思っています。・・・・・・
A73: ●株式会社NTTドコモの事業・活動について、あなたがどう理解し、どう考えているか。
A74: 株式会社NTTドコモのイメージは、・・・
Y77: 以上
A78: 【記入上の注意】
A79: ・添付する写真は、上半身、脱帽、最近6か月以内に撮影したものとし、50KB以下のものを貼り付けること。 写真の大きさの調整をして枠内に収めること（写真の縦横比は変更しない。枠内に空白ができても可）。 ・応募者本人が入力すること（手書き不可）。 ・各項目ともセル内に収まるよう入力し、行の追加・高さの調整はしないこと。

Sheet 一覧（縦）
A1: 氏名（ｶﾅ） | B1: ='願書（様式1）'!D10 -> 0
A2: 氏名（ｱﾙﾌｧﾍﾞｯﾄ） | B2: ='願書（様式1）'!D11 -> 0
A3: 氏名（漢字） | B3: ='願書（様式1）'!D12 -> 0
A4: 学校名 | B4: ='願書（様式1）'!A15 -> 0
A5: 学部・研究科 | B5: ='願書（様式1）'!I15 -> 0
A6: 専攻 | B6: ='願書（様式1）'!R15 -> 0
A7: 在籍課程 | B7: ='願書（様式1）'!A17 -> ★★ CLICK HERE ★★ ▽を押して在籍課程を選択してください
A8: 学年 | B8: ='願書（様式1）'!I17 -> 0
A9: 入学年月 | B9: ='願書（様式1）'!M17&"/"&'願書（様式1）'!Q17 -> /
A10: 卒業・修了年月 | B10: ='願書（様式1）'!T17&"/"&'願書（様式1）'!X17 -> /
A11: 国籍 | B11: ='願書（様式1）'!A19 -> 0
A12: 渡日状況 | B12: ='願書（様式1）'!I19 -> ★★ CLICK HERE ★★ ▽を押して渡日状況を選択してください
A13: 渡日予定 | B13: ='願書（様式1）'!Q19&"/"&'願書（様式1）'!U19&"/"&'願書（様式1）'!X19 -> //
A14: 生年月日 | B14: ='願書（様式1）'!A21&"/"&'願書（様式1）'!E21&"/"&'願書（様式1）'!G21 -> //
A15: 年齢 | B15: =DATEDIF(B14,C15,"Y") -> #VALUE! | C15: 45017
A16: 性別 | B16: ='願書（様式1）'!Q21 -> ★★ CLICK HERE ★★ ▽を押して選択してください
A17: ①仕送り、生計を一にする同居者の収入等 | B17: ='願書（様式1）'!H25 -> 0
A18: ②アルバイト収入、RA・TAの給与等 | B18: ='願書（様式1）'!H26 -> 0
A19: ③特別研究員 研究奨励金 | B19: ='願書（様式1）'!H27 -> 0
A20: ④併給奨学金（給付型のみ） | B20: ='願書（様式1）'!H28 -> 0
A21: ⑤貯金の取り崩し | B21: ='願書（様式1）'!H29 -> 0
A22: ⑥その他 （借金等、貸与型奨学金含む） | B22: ='願書（様式1）'!H30 -> 0
A23: 収入合計 | B23: ='願書（様式1）'!H31 -> 0
A24: ⑦学費 | B24: ='願書（様式1）'!U25 -> 0
A25: ⑧（⑦のうち）学費免除額 | B25: ='願書（様式1）'!U26 -> 0
A26: ⑨教材費 | B26: ='願書（様式1）'!U27 -> 0
A27: ⑩食費 | B27: ='願書（様式1）'!U28 -> 0
A28: ⑪住居費 | B28: ='願書（様式1）'!U29 -> 0
A29: ⑫その他（光熱費・通信費・交通費等） | B29: ='願書（様式1）'!U30 -> 0
A30: 支出合計 | B30: ='願書（様式1）'!U31 -> 0
A31: 収入―支出 | B31: ='願書（様式1）'!H32 -> 0
A32: 併給奨学金①（貸与型・給付型） | B32: ='願書（様式1）'!A36 -> CLICK HERE▼
A33: 併給奨学金①（名称） | B33: ='願書（様式1）'!C36 -> 0
A34: 併給奨学金①（支給団体） | B34: ='願書（様式1）'!I36 -> 0
A35: 併給奨学金①（月額） | B35: ='願書（様式1）'!N36 -> 0
A36: 併給奨学金①（受給開始年月） | B36: ='願書（様式1）'!R36&"/"&'願書（様式1）'!U36 -> /
A37: 併給奨学金①（受給終了年月） | B37: ='願書（様式1）'!R37&"/"&'願書（様式1）'!U37 -> /
A38: 併給奨学金①（状況） | B38: ='願書（様式1）'!X36 -> CLICK HERE▼
A39: 併給奨学金②（貸与型・給付型） | B39: ='願書（様式1）'!A38 -> 0
A40: 併給奨学金②（名称） | B40: ='願書（様式1）'!C38 -> 0
A41: 併給奨学金②（支給団体） | B41: ='願書（様式1）'!I38 -> 0
A42: 併給奨学金②（月額） | B42: ='願書（様式1）'!N38 -> 0
A43: 併給奨学金②（受給開始年月） | B43: ='願書（様式1）'!R38&"/"&'願書（様式1）'!U38 -> /
A44: 併給奨学金②（受給終了年月） | B44: ='願書（様式1）'!R39&"/"&'願書（様式1）'!U39 -> /
A45: 併給奨学金②（状況） | B45: ='願書（様式1）'!X38 -> 0
A46: 併給奨学金③（貸与型・給付型） | B46: ='願書（様式1）'!A40 -> 0
A47: 併給奨学金③（名称） | B47: ='願書（様式1）'!C40 -> 0
A48: 併給奨学金③（支給団体） | B48: ='願書（様式1）'!I40 -> 0
A49: 併給奨学金③（月額） | B49: ='願書（様式1）'!N40 -> 0
A50: 併給奨学金③（受給開始年月） | B50: ='願書（様式1）'!R40&"/"&'願書（様式1）'!U40 -> /
A51: 併給奨学金③（受給終了年月） | B51: ='願書（様式1）'!R41&"/"&'願書（様式1）'!U41 -> /
A52: 併給奨学金③（状況） | B52: ='願書（様式1）'!X40 -> 0
A53: 併給奨学金④（貸与型・給付型） | B53: ='願書（様式1）'!A42 -> 0
A54: 併給奨学金④（名称） | B54: ='願書（様式1）'!C42 -> 0
A55: 併給奨学金④（支給団体） | B55: ='願書（様式1）'!I42 -> 0
A56: 併給奨学金④（月額） | B56: ='願書（様式1）'!N42 -> 0
A57: 併給奨学金④（受給開始年月） | B57: ='願書（様式1）'!R42&"/"&'願書（様式1）'!U42 -> /
A58: 併給奨学金④（受給終了年月） | B58: ='願書（様式1）'!R43&"/"&'願書（様式1）'!U43 -> /
A59: 併給奨学金④（状況） | B59: ='願書（様式1）'!X42 -> 0
A60: 学歴・職歴①（別） | B60: ='願書（様式1）'!A47 -> CLICK HERE▼
A61: 学歴・職歴①（学校名・勤務先）（所在地） | B61: ='願書（様式1）'!C47 -> 0
A62: 学歴・職歴①（専攻分野・地位） | B62: ='願書（様式1）'!L47 -> 0
A63: 学歴・職歴①（開始期間） | B63: ='願書（様式1）'!U47&"/"&'願書（様式1）'!X47 -> /
A64: 学歴・職歴①（終了期間） | B64: ='願書（様式1）'!U48&"/"&'願書（様式1）'!X48 -> /
A65: 学歴・職歴②（別） | B65: ='願書（様式1）'!A49 -> 0
A66: 学歴・職歴②（学校名・勤務先）（所在地） | B66: ='願書（様式1）'!C49 -> 0
A67: 学歴・職歴②（専攻分野・地位） | B67: ='願書（様式1）'!L49 -> 0
A68: 学歴・職歴②（開始期間） | B68: ='願書（様式1）'!U49&"/"&'願書（様式1）'!X49 -> /
A69: 学歴・職歴②（終了期間） | B69: ='願書（様式1）'!U50&"/"&'願書（様式1）'!X50 -> /
A70: 学歴・職歴③（別） | B70: ='願書（様式1）'!A51 -> 0
A71: 学歴・職歴③（学校名・勤務先）（所在地） | B71: ='願書（様式1）'!C51 -> 0
A72: 学歴・職歴③（専攻分野・地位） | B72: ='願書（様式1）'!L51 -> 0
A73: 学歴・職歴③（開始期間） | B73: ='願書（様式1）'!U51&"/"&'願書（様式1）'!X51 -> /
A74: 学歴・職歴③（終了期間） | B74: ='願書（様式1）'!U52&"/"&'願書（様式1）'!X52 -> /
A75: 学歴・職歴④（別） | B75: ='願書（様式1）'!A53 -> 0
A76: 学歴・職歴④（学校名・勤務先）（所在地） | B76: ='願書（様式1）'!C53 -> 0
A77: 学歴・職歴④（専攻分野・地位） | B77: ='願書（様式1）'!L53 -> 0
A78: 学歴・職歴④（開始期間） | B78: ='願書（様式1）'!U53&"/"&'願書（様式1）'!X53 -> /
A79: 学歴・職歴④（終了期間） | B79: ='願書（様式1）'!U54&"/"&'願書（様式1）'!X54 -> /
A80: 日本語能力に関する資格（資格名） | B80: ='願書（様式1）'!A58 -> 0
A81: 日本語能力に関する資格（レベル） | B81: ='願書（様式1）'!L58 -> 0
A82: 日本語能力に関する資格（取得年月） | B82: ='願書（様式1）'!U58&"/"&'願書（様式1）'!X58 -> /
A83: 日本で学習・研究する理由 | B83: ='願書（様式1）'!A62 -> 0
A84: 学習・研究計画（概要・テーマ） | B84: ='願書（様式1）'!G64 -> 0
A85: 学習・研究計画（内容） | B85: ='願書（様式1）'!A66 -> 0
A86: 研究の将来性 | B86: ='願書（様式1）'!A69 -> 0
A87: 卒業後の進路希望 | B87: ='願書（様式1）'!A71 -> 0
