Workbook

Sheet 願書（様式1）
Z1: (様式1)
A2: 令和5年度JEES・ドコモ留学生奨学金 願書
S3: 令和 | U3: 5 | V3: 年 | X3: 月 | Z3: 日
A4: 公益財団法人 日本国際教育支援協会 理事長 殿
A6: 私は、本奨学金の募集・推薦要項の全記載内容に同意・了承の上、令和5年度JEES・ドコモ留学生奨学金の奨学生として採用願いたく、願書の記載事項に相違ありませんので、ここに申請いたします。また、募集・推薦要項15(2)①から⑤の目的で、願書の記載事項を寄付者に開示・提供することに同意いたします。なお、奨学生として採用された場合は、他の奨学金を受給することを目的として、本奨学金を辞退することはいたしません。
A7: 記
A9: 氏 名 | V9: 写真 データを貼り付けること ( 50KB以内）
A10: カナ
A11: 英語ｱﾙﾌｧﾍﾞｯﾄ （半角・大文字）
A12: 漢字 (ある場合)
A13: 学籍状況（令和5年4月1日時点）
A14: 学校名 | I14: 研究科 | R14: 専攻
A16: 在籍課程 | I16: 学年 | M16: 入学年月 | T16: 修了予定年月
A17: ★★ CLICK HERE ★★ ▽を押して在籍課程を選択してください | K17: 年次 | P17: 年 | S17: 月 | W17: 年 | Z17: 月
A18: 国籍・地域 | I18: 渡日状況 | Q18: 渡日予定時期
I19: ★★ CLICK HERE ★★ ▽を押して渡日状況を選択してください | T19: 年 | W19: 月 | Z19: 日
A20: 生年月日 | Q20: 性別
D21: 年 | F21: 月 | H21: 日 | I21: （令和5年4月1日時点で | N21: ='一覧（縦）'!B15 -> #VALUE! | P21: 歳） | Q21: ★★ CLICK HERE ★★ ▽を押して選択してください
A23: ●応募者の経済状況（令和5年度見込み）
A24: 収入内訳(全て平均月額を記入すること) ※本国の家庭の収入、日本国外にいる配偶者の収入等、 生計を一にする別居者の収入は含まない | N24: 支出内訳(全て平均月額を記入すること)
A25: ①仕送り、生計を一にする 同居者の収入等 | M25: 円 | N25: ⑦学費 | Z25: 円
A26: ②アルバイト収入、 RA・TAの給与等 | M26: 円 | N26: ⑧（⑦のうち）学費免除額 | Z26: 円
A27: ③特別研究員 研究奨励金 | M27: 円 | N27: ⑨教材費 | Z27: 円
A28: ④併給奨学金（給付型のみ） | M28: 円 | N28: ⑩食費 | Z28: 円
A29: ⑤貯金の取り崩し | M29: 円 | N29: ⑪住居費 | Z29: 円
A30: ⑥その他 （借金等、貸与型奨学金含む） | M30: 円 | N30: ⑫その他 （光熱費・通信費・交通費等） | Z30: 円
A31: 収入合計 | H31: =SUM(H25:L30) -> 0 | M31: 円 | N31: 支出合計 | U31: =(U25+U27+U28+U29+U30)-U26 -> 0 | Z31: 円
A32: 収入―支出 | H32: =H31-U31 -> 0 | Z32: 円 | AA32: =IF(H32<0,"★支出が収入を上回らないように修正してください。収入を上回る支出を貯金の取り崩しや借金で賄う場合は⑤または⑥に計上してください。","")
A34: ●他の奨学金（一時金含む）受給・申請状況 ※令和5年4月～令和6年3月までに受給する（予定を含む）奨学金のみ記入すること。
A35: 給付型 貸与型 | C35: 奨学金名 | I35: 支給団体名 | N35: 月額（一時金の場合は支給額の1/12の金額） | R35: 受給期間 | X35: 状況
A36: CLICK HERE▼ | Q36: 円 | T36: 年 | V36: 月 | W36: から | X36: CLICK HERE▼
T37: 年 | V37: 月 | W37: まで
Q38: 円 | T38: 年 | V38: 月 | W38: から
T39: 年 | V39: 月 | W39: まで
Q40: 円 | T40: 年 | V40: 月 | W40: から
T41: 年 | V41: 月 | W41: まで
Q42: 円 | T42: 年 | V42: 月 | W42: から
T43: 年 | V43: 月 | W43: まで
A45: ●学歴・職歴（高等学校以降） ※記入欄が足りない場合は高等学校以降の直近4件を記入すること。
A46: 学歴 職歴 | C46: 学校名又は勤務先 （所在地） | L46: 専攻分野・職務内容・地位 | U46: 在学・勤務期間
...

Sheet リスト
A1: 在籍課程 | D1: 渡日状況 | G1: 奨学金支給状況 | J1: 履歴 | M1: 推薦順位 | O1: 性別 | Q1: 併給奨学金
A2: ★★ CLICK HERE ★★ ▽を押して在籍課程を選択してください | D2: ★★ CLICK HERE ★★ ▽を押して渡日状況を選択してください | G2: CLICK HERE▼ | J2: CLICK HERE▼ | M2: ★順位を選択してください | O2: ★★ CLICK HERE ★★ ▽を押して選択してください | Q2: CLICK HERE▼
A3: 学士課程【4年制】 | D3: 渡日済み | G3: 受給中 | J3: 学歴 | M3: 1 | O3: 男 | Q3: 給付型
A4: 学士課程【6年制】 | D4: 渡日前（再入国） | G4: 申請中 | J4: 職歴 | M4: 2 | O4: 女 | Q4: 貸与型
A5: 修士（博士前期）課程 | D5: 渡日前（新規入国） | G5: 受給決定済 | M5: 3 | O5: 回答しない
A6: 博士（博士後期）課程【3年制】
A7: 博士（博士後期）課程【4年制】
A8: 一貫制博士課程
A9: 専門職学位課程

Sheet 【記入例】願書（様式1）
Z1: (様式1)
A2: 令和5年度JEES・ドコモ留学生奨学金 願書
S3: 令和 | U3: 5 | V3: 年 | W3: 5 | X3: 月 | Y3: 1 | Z3: 日
A4: 公益財団法人 日本国際教育支援協会 理事長 殿
A6: 私は、本奨学金の募集・推薦要項の全記載内容に同意・了承の上、令和5年度JEES・ドコモ留学生奨学金の奨学生として採用願いたく、願書の記載事項に相違ありませんので、ここに申請いたします。また、募集・推薦要項15(2)①から⑤の目的で、願書の記載事項を寄付者に開示・提供することに同意いたします。なお、奨学生として採用された場合は、他の奨学金を受給することを目的として、本奨学金を辞退することはいたしません。
A7: 記
A9: 氏 名 | V9: 写真 データを貼り付けること ( 50KB以内）
A10: カナ | D10: キョウカイ タロウ
A11: 英語ｱﾙﾌｧﾍﾞｯﾄ （半角・大文字） | D11: KYOUKAI TARO
A12: 漢字 (ある場合) | D12: 協会 太郎
A13: 学籍状況（令和5年4月1日時点）
A14: 学校名 | I14: 研究科 | R14: 専攻
A15: JEES大学 | I15: 情報学研究科 | R15: 情報学専攻
A16: 在籍課程 | I16: 学年 | M16: 入学年月 | T16: 修了予定年月
A17: 修士（博士前期）課程 | I17: 1 | K17: 年次 | M17: 2023 | P17: 年 | Q17: 1 | S17: 月 | T17: 2025 | W17: 年 | X17: 3 | Z17: 月
A18: 国籍・地域 | I18: 渡日状況 | Q18: 渡日予定時期
A19: ××国 | I19: 渡日済み | T19: 年 | W19: 月 | Z19: 日
A20: 生年月日 | Q20: 性別
A21: 2000 | D21: 年 | E21: 8 | F21: 月 | G21: 1 | H21: 日 | I21: （令和5年4月1日時点で | N21: 22 | P21: 歳） | Q21: 男
A23: ●応募者の経済状況（令和5年度見込み）
A24: 収入内訳(全て平均月額を記入すること) ※本国の家庭の収入、日本国外にいる配偶者の収入等、 生計を一にする別居者の収入は含まない | N24: 支出内訳(全て平均月額を記入すること)
A25: ①仕送り、生計を一にする 同居者の収入等 | H25: 100000 | M25: 円 | N25: ⑦学費 | U25: 30000 | Z25: 円
A26: ②アルバイト収入、 RA・TAの給与等 | H26: 20000 | M26: 円 | N26: ⑧（⑦のうち）学費免除額 | U26: 30000 | Z26: 円
A27: ③特別研究員 研究奨励金 | H27: 0 | M27: 円 | N27: ⑨教材費 | U27: 30000 | Z27: 円
A28: ④併給奨学金（給付型のみ） | H28: 20000 | M28: 円 | N28: ⑩食費 | U28: 30000 | Z28: 円
A29: ⑤貯金の取り崩し | H29: 0 | M29: 円 | N29: ⑪住居費 | U29: 60000 | Z29: 円
A30: ⑥その他 （借金等、貸与型奨学金含む） | H30: 0 | M30: 円 | N30: ⑫その他 （光熱費・通信費・交通費等） | U30: 20000 | Z30: 円
A31: 収入合計 | H31: =SUM(H25:L30) -> 140000 | M31: 円 | N31: 支出合計 | U31: =(U25+U27+U28+U29+U30)-U26 -> 140000 | Z31: 円
A32: 収入―支出 | H32: =H31-U31 -> 0 | Z32: 円 | AA32: =IF(H32<0,"★支出が収入を上回らないように修正してください。収入を上回る支出を貯金の取り崩しや借金で賄う場合は⑤または⑥に計上してください。","")
A34: ●他の奨学金（一時金含む）受給・申請状況 ※令和5年4月～令和6年3月までに受給する（予定を含む）奨学金のみ記入すること。
A35: 給付型 貸与型 | C35: 奨学金名 | I35: 支給団体名 | N35: 月額（一時金の場合は支給額の1/12の金額） | R35: 受給期間 | X35: 状況
A36: 給付型 | C36: A奨学金 | I36: A財団 | N36: 20000 | Q36: 円 | R36: 2023 | T36: 年 | U36: 4 | V36: 月 | W36: から | X36: 受給中
R37: 2025 | T37: 年 | U37: 3 | V37: 月 | W37: まで
Q38: 円 | T38: 年 | V38: 月 | W38: から
T39: 年 | V39: 月 | W39: まで
Q40: 円 | T40: 年 | V40: 月 | W40: から
T41: 年 | V41: 月 | W41: まで
Q42: 円 | T42: 年 | V42: 月 | W42: から
T43: 年 | V43: 月 | W43: まで
A45: ●学歴・職歴（高等学校以降） ※記入欄が足りない場合は高等学校以降の直近4件を記入すること。
...

Sheet 一覧（縦）
A1: 氏名（ｶﾅ） | B1: ='願書（様式1）'!D10 -> 0
A2: 氏名（ｱﾙﾌｧﾍﾞｯﾄ） | B2: ='願書（様式1）'!D11 -> 0
A3: 氏名（漢字） | B3: ='願書（様式1）'!D12 -> 0
A4: 学校名 | B4: ='願書（様式1）'!A15 -> 0
A5: 学部・研究科 | B5: ='願書（様式1）'!I15 -> 0
A6: 専攻 | B6: ='願書（様式1）'!R15 -> 0
A7: 在籍課程 | B7: ='願書（様式1）'!A17 -> ★★ CLICK HERE ★★ ▽を押して在籍課程を選択してください
A8: 学年 | B8: ='願書（様式1）'!I17 -> 0
A9: 入学年月 | B9: ='願書（様式1）'!M17&"/"&'願書（様式1）'!Q17 -> /
A10: 卒業・修了年月 | B10: ='願書（様式1）'!T17&"/"&'願書（様式1）'!X17 -> /
A11: 国籍 | B11: ='願書（様式1）'!A19 -> 0
A12: 渡日状況 | B12: ='願書（様式1）'!I19 -> ★★ CLICK HERE ★★ ▽を押して渡日状況を選択してください
A13: 渡日予定 | B13: ='願書（様式1）'!Q19&"/"&'願書（様式1）'!U19&"/"&'願書（様式1）'!X19 -> //
A14: 生年月日 | B14: ='願書（様式1）'!A21&"/"&'願書（様式1）'!E21&"/"&'願書（様式1）'!G21 -> //
A15: 年齢 | B15: =DATEDIF(B14,C15,"Y") -> #VALUE! | C15: 45017
A16: 性別 | B16: ='願書（様式1）'!Q21 -> ★★ CLICK HERE ★★ ▽を押して選択してください
A17: ①仕送り、生計を一にする同居者の収入等 | B17: ='願書（様式1）'!H25 -> 0
A18: ②アルバイト収入、RA・TAの給与等 | B18: ='願書（様式1）'!H26 -> 0
A19: ③特別研究員 研究奨励金 | B19: ='願書（様式1）'!H27 -> 0
A20: ④併給奨学金（給付型のみ） | B20: ='願書（様式1）'!H28 -> 0
A21: ⑤貯金の取り崩し | B21: ='願書（様式1）'!H29 -> 0
A22: ⑥その他 （借金等、貸与型奨学金含む） | B22: ='願書（様式1）'!H30 -> 0
A23: 収入合計 | B23: ='願書（様式1）'!H31 -> 0
A24: ⑦学費 | B24: ='願書（様式1）'!U25 -> 0
A25: ⑧（⑦のうち）学費免除額 | B25: ='願書（様式1）'!U26 -> 0
A26: ⑨教材費 | B26: ='願書（様式1）'!U27 -> 0
A27: ⑩食費 | B27: ='願書（様式1）'!U28 -> 0
A28: ⑪住居費 | B28: ='願書（様式1）'!U29 -> 0
A29: ⑫その他（光熱費・通信費・交通費等） | B29: ='願書（様式1）'!U30 -> 0
A30: 支出合計 | B30: ='願書（様式1）'!U31 -> 0
A31: 収入―支出 | B31: ='願書（様式1）'!H32 -> 0
A32: 併給奨学金①（貸与型・給付型） | B32: ='願書（様式1）'!A36 -> CLICK HERE▼
A33: 併給奨学金①（名称） | B33: ='願書（様式1）'!C36 -> 0
A34: 併給奨学金①（支給団体） | B34: ='願書（様式1）'!I36 -> 0
A35: 併給奨学金①（月額） | B35: ='願書（様式1）'!N36 -> 0
A36: 併給奨学金①（受給開始年月） | B36: ='願書（様式1）'!R36&"/"&'願書（様式1）'!U36 -> /
A37: 併給奨学金①（受給終了年月） | B37: ='願書（様式1）'!R37&"/"&'願書（様式1）'!U37 -> /
A38: 併給奨学金①（状況） | B38: ='願書（様式1）'!X36 -> CLICK HERE▼
A39: 併給奨学金②（貸与型・給付型） | B39: ='願書（様式1）'!A38 -> 0
A40: 併給奨学金②（名称） | B40: ='願書（様式1）'!C38 -> 0
...
